BEGIN:VCALENDAR
VERSION:2.0
PRODID:-//Haramaya University - ECPv4.9.12//NONSGML v1.0//EN
CALSCALE:GREGORIAN
METHOD:PUBLISH
X-WR-CALNAME:Haramaya University
X-ORIGINAL-URL:https://www.haramaya.edu.et
X-WR-CALDESC:Events for Haramaya University
BEGIN:VTIMEZONE
TZID:Africa/Addis_Ababa
BEGIN:STANDARD
TZOFFSETFROM:+0300
TZOFFSETTO:+0300
TZNAME:EAT
DTSTART:20210101T000000
END:STANDARD
END:VTIMEZONE
BEGIN:VEVENT
DTSTART;TZID=Africa/Addis_Ababa:20210926T080000
DTEND;TZID=Africa/Addis_Ababa:20210926T170000
DTSTAMP:20260423T151602
CREATED:20210914T115728Z
LAST-MODIFIED:20210914T115758Z
UID:8263-1632643200-1632675600@www.haramaya.edu.et
SUMMARY:Summer Graduation Program
DESCRIPTION:Summer Graduation Program \n\n\njQuery(document).ready(function($) {\n	$.post('https://www.haramaya.edu.et/wp-admin/admin-ajax.php'\, {action: 'wpt_view_count'\, id: '8263'});\n});\n
URL:https://www.haramaya.edu.et/event/summar-graduation-program/
LOCATION:haramay University Main Campus\, HrU\, Bate\, Haramaya\, 138\, Ethiopia
CATEGORIES:Upcoming Events
ORGANIZER;CN="Mohammed":MAILTO:Moha3423@yahoo.com
END:VEVENT
END:VCALENDAR