BEGIN:VCALENDAR
VERSION:2.0
PRODID:-//Haramaya University - ECPv4.9.12//NONSGML v1.0//EN
CALSCALE:GREGORIAN
METHOD:PUBLISH
X-WR-CALNAME:Haramaya University
X-ORIGINAL-URL:https://www.haramaya.edu.et
X-WR-CALDESC:Events for Haramaya University
BEGIN:VTIMEZONE
TZID:Africa/Addis_Ababa
BEGIN:STANDARD
TZOFFSETFROM:+0300
TZOFFSETTO:+0300
TZNAME:EAT
DTSTART:20210101T000000
END:STANDARD
END:VTIMEZONE
BEGIN:VEVENT
DTSTART;TZID=Africa/Addis_Ababa:20210923T080000
DTEND;TZID=Africa/Addis_Ababa:20210923T183000
DTSTAMP:20260423T165705
CREATED:20210914T120443Z
LAST-MODIFIED:20210914T120443Z
UID:8266-1632384000-1632421800@www.haramaya.edu.et
SUMMARY:Regular Undergraduate Graduation Schedule
DESCRIPTION:access university website  download Schedule and follow us. \n\n\njQuery(document).ready(function($) {\n	$.post('https://www.haramaya.edu.et/wp-admin/admin-ajax.php'\, {action: 'wpt_view_count'\, id: '8266'});\n});\n
URL:https://www.haramaya.edu.et/event/regular-undergraduate-graduation-schedule/
LOCATION:stadium
CATEGORIES:Upcoming Events
END:VEVENT
END:VCALENDAR