BEGIN:VCALENDAR
VERSION:2.0
PRODID:-//Haramaya University - ECPv4.9.12//NONSGML v1.0//EN
CALSCALE:GREGORIAN
METHOD:PUBLISH
X-WR-CALNAME:Haramaya University
X-ORIGINAL-URL:https://www.haramaya.edu.et
X-WR-CALDESC:Events for Haramaya University
BEGIN:VTIMEZONE
TZID:Africa/Addis_Ababa
BEGIN:STANDARD
TZOFFSETFROM:+0300
TZOFFSETTO:+0300
TZNAME:EAT
DTSTART:20210101T000000
END:STANDARD
END:VTIMEZONE
BEGIN:VEVENT
DTSTART;TZID=Africa/Addis_Ababa:20211215T080000
DTEND;TZID=Africa/Addis_Ababa:20211216T170000
DTSTAMP:20260421T095311
CREATED:20211125T071504Z
LAST-MODIFIED:20211125T071504Z
UID:9970-1639555200-1639674000@www.haramaya.edu.et
SUMMARY:Design Approval
DESCRIPTION:Haramaya University Newly Developed website Design Approval  December 15 \n\n\njQuery(document).ready(function($) {\n	$.post('https://www.haramaya.edu.et/wp-admin/admin-ajax.php'\, {action: 'wpt_view_count'\, id: '9970'});\n});\n
URL:https://www.haramaya.edu.et/event/design-approval/
LOCATION:haramay University Main Campus\, HrU\, Bate\, Haramaya\, 138\, Ethiopia
CATEGORIES:Upcoming Events
ORGANIZER;CN="Belete%20Shawel":MAILTO:belete1219@gmail.com
END:VEVENT
END:VCALENDAR