BEGIN:VCALENDAR
VERSION:2.0
PRODID:-//Haramaya University - ECPv4.9.12//NONSGML v1.0//EN
CALSCALE:GREGORIAN
METHOD:PUBLISH
X-WR-CALNAME:Haramaya University
X-ORIGINAL-URL:https://www.haramaya.edu.et
X-WR-CALDESC:Events for Haramaya University
BEGIN:VTIMEZONE
TZID:Africa/Addis_Ababa
BEGIN:STANDARD
TZOFFSETFROM:+0300
TZOFFSETTO:+0300
TZNAME:EAT
DTSTART:20250101T000000
END:STANDARD
END:VTIMEZONE
BEGIN:VEVENT
DTSTART;VALUE=DATE:20251229
DTEND;VALUE=DATE:20251231
DTSTAMP:20260423T091309
CREATED:20251229T072458Z
LAST-MODIFIED:20251230T053733Z
UID:25816-1766966400-1767139199@www.haramaya.edu.et
SUMMARY:Call for High-Level Seminar to all Academic Communities
DESCRIPTION: \nCall for High-Level Seminar to all Academic Communities\nUndergraduate students are especially invited\nAFRICAN YOUTH\nThe Dividend for Africa’s Transformations\nBy Prof. Gebisa Ejeta\nEminent Scientist\n30 December 2025\n3:00 P.M\nAFRAN KALLO HALL\nHaramaya University \n\n\njQuery(document).ready(function($) {\n	$.post('https://www.haramaya.edu.et/wp-admin/admin-ajax.php'\, {action: 'wpt_view_count'\, id: '25816'});\n});\n
URL:https://www.haramaya.edu.et/event/call-for-high-level-seminar-to-all-academic-communities/
LOCATION:AFRAN KALLO HALL\, By Prof. Gebisa Ejeta\, Ethiopia
CATEGORIES:Upcoming Events
END:VEVENT
END:VCALENDAR